BEGIN:VCALENDAR
VERSION:2.0
PRODID:-//IP.Board Calendar 4.7.2.1//EN
METHOD:PUBLISH
CALSCALE:GREGORIAN
X-WR-CALNAME:E3
BEGIN:VTIMEZONE
TZID:Europe/London
TZURL:http://tzurl.org/zoneinfo/Europe/London
X-LIC-LOCATION:Europe/London
BEGIN:DAYLIGHT
TZOFFSETFROM:+0000
TZOFFSETTO:+0100
TZNAME:BST
DTSTART:20170326T020000Z
RRULE:FREQ=YEARLY;BYMONTH=3;BYDAY=-1SU
END:DAYLIGHT
BEGIN:STANDARD
TZOFFSETFROM:+0100
TZOFFSETTO:+0000
TZNAME:GMT
DTSTART:20171029T020000Z
RRULE:FREQ=YEARLY;BYMONTH=10;BYDAY=-1SU
END:STANDARD
END:VTIMEZONE
BEGIN:VEVENT
SUMMARY:Nintendo
DTSTAMP:20170522T113454Z
SEQUENCE:0
UID:290-4-222dc41458c4c1074a08312570f8a9dc@forum.pressxordie.com
ORGANIZER;CN="deanb":forum@pressxordie.com
DESCRIPTION:\n\n	https://www.youtube.com/user/E3\n\n\n\n	http://uk.ign.c
	om/events/e3\n\n\n\n	https://www.twitch.tv/twitch\n\n\n\n	http://www.ninte
	ndo.com/nintendo-direct/archive/\n\n
DTSTART:20170613T160000Z
DTEND:20170613T180000Z
END:VEVENT
END:VCALENDAR
